BEGIN:VCALENDAR
METHOD:PUBLISH
VERSION:2.0
PRODID:-//Apple Inc.//iCal 4.0.1//EN
BEGIN:VEVENT
UID:13213698
DTSTAMP:20260422T210409Z
DTSTART;VALUE=DATE:20260521
DTEND;VALUE=DATE:20260521
SUMMARY:Lodgement/Payment Due Date - April monthly activity statement
DESCRIPTION:<![CDATA[]]>
END:VEVENT
CALSCALE:GREGORIAN
END:VCALENDAR
 