BEGIN:VCALENDAR
METHOD:PUBLISH
VERSION:2.0
PRODID:-//Apple Inc.//iCal 4.0.1//EN
BEGIN:VEVENT
UID:20335668
DTSTAMP:20260422T210429Z
DTSTART;VALUE=DATE:20260428
DTEND;VALUE=DATE:20260428
SUMMARY:Lodgement/Payment Due Date - Super guarantee contributions for quarter 3
DESCRIPTION:<![CDATA[]]>
END:VEVENT
CALSCALE:GREGORIAN
END:VCALENDAR
 