BEGIN:VCALENDAR
METHOD:PUBLISH
VERSION:2.0
PRODID:-//Apple Inc.//iCal 4.0.1//EN
BEGIN:VEVENT
UID:851090
DTSTAMP:20260425T010432Z
DTSTART;VALUE=DATE:20240228
DTEND;VALUE=DATE:20240228
SUMMARY:Lodgement Due Date - Quarterly Instalment Notice (form R, S or T)
DESCRIPTION:<![CDATA[]]>
END:VEVENT
CALSCALE:GREGORIAN
END:VCALENDAR
 