BEGIN:VCALENDAR
METHOD:PUBLISH
VERSION:2.0
PRODID:-//Apple Inc.//iCal 4.0.1//EN
BEGIN:VEVENT
UID:6374395
DTSTAMP:20260425T010433Z
DTSTART;VALUE=DATE:20231201
DTEND;VALUE=DATE:20231201
SUMMARY:Lodgement/Payment Due Date - income tax
DESCRIPTION:<![CDATA[]]>
END:VEVENT
CALSCALE:GREGORIAN
END:VCALENDAR
 