BEGIN:VCALENDAR
METHOD:PUBLISH
VERSION:2.0
PRODID:-//Apple Inc.//iCal 4.0.1//EN
BEGIN:VEVENT
UID:13729524
DTSTAMP:20260425T010406Z
DTSTART;VALUE=DATE:20231128
DTEND;VALUE=DATE:20231128
SUMMARY:Lodgement/Payment Due Date - 	Superannuation guarantee charge (SGC) quarterly statement
DESCRIPTION:<![CDATA[]]>
END:VEVENT
CALSCALE:GREGORIAN
END:VCALENDAR
 