BEGIN:VCALENDAR
METHOD:PUBLISH
VERSION:2.0
PRODID:-//Apple Inc.//iCal 4.0.1//EN
BEGIN:VEVENT
UID:20222239
DTSTAMP:20260425T040457Z
DTSTART;VALUE=DATE:20261125
DTEND;VALUE=DATE:20261125
SUMMARY:Lodgement/Payment Due Date - Quarterly activity statement
DESCRIPTION:<![CDATA[]]>
END:VEVENT
CALSCALE:GREGORIAN
END:VCALENDAR
 