BEGIN:VCALENDAR
METHOD:PUBLISH
VERSION:2.0
PRODID:-//Apple Inc.//iCal 4.0.1//EN
BEGIN:VEVENT
UID:20897853
DTSTAMP:20260425T010421Z
DTSTART;VALUE=DATE:20231125
DTEND;VALUE=DATE:20231125
SUMMARY:Lodgement/Payment Due Date - Quarterly activity statement
DESCRIPTION:<![CDATA[]]>
END:VEVENT
CALSCALE:GREGORIAN
END:VCALENDAR
 