BEGIN:VCALENDAR
METHOD:PUBLISH
VERSION:2.0
PRODID:-//Apple Inc.//iCal 4.0.1//EN
BEGIN:VEVENT
UID:659843
DTSTAMP:20260425T010433Z
DTSTART;VALUE=DATE:20301031
DTEND;VALUE=DATE:20301031
SUMMARY:Lodgement/Payment Due Date - Tax returns for all entities
DESCRIPTION:<![CDATA[]]>
END:VEVENT
CALSCALE:GREGORIAN
END:VCALENDAR
 