BEGIN:VCALENDAR
METHOD:PUBLISH
VERSION:2.0
PRODID:-//Apple Inc.//iCal 4.0.1//EN
BEGIN:VEVENT
UID:19980162
DTSTAMP:20260425T010443Z
DTSTART;VALUE=DATE:20300930
DTEND;VALUE=DATE:20300930
SUMMARY:Lodgement Due Date - Annual TFN withholding report
DESCRIPTION:<![CDATA[]]>
END:VEVENT
CALSCALE:GREGORIAN
END:VCALENDAR
 