BEGIN:VCALENDAR
METHOD:PUBLISH
VERSION:2.0
PRODID:-//Apple Inc.//iCal 4.0.1//EN
BEGIN:VEVENT
UID:23785197
DTSTAMP:20260425T010429Z
DTSTART;VALUE=DATE:20280228
DTEND;VALUE=DATE:20280228
SUMMARY:Lodgement Due Date - Tax return for non-taxable large/medium entities
DESCRIPTION:<![CDATA[]]>
END:VEVENT
CALSCALE:GREGORIAN
END:VCALENDAR
 