BEGIN:VCALENDAR
METHOD:PUBLISH
VERSION:2.0
PRODID:-//Apple Inc.//iCal 4.0.1//EN
BEGIN:VEVENT
UID:7612387
DTSTAMP:20260425T010445Z
DTSTART;VALUE=DATE:20240331
DTEND;VALUE=DATE:20240331
SUMMARY:Lodgement Due Date -  	Tax return for companies and super funds
DESCRIPTION:<![CDATA[]]>
END:VEVENT
CALSCALE:GREGORIAN
END:VCALENDAR
 