BEGIN:VCALENDAR
METHOD:PUBLISH
VERSION:2.0
PRODID:-//Apple Inc.//iCal 4.0.1//EN
BEGIN:VEVENT
UID:19810898
DTSTAMP:20260425T010452Z
DTSTART;VALUE=DATE:20300526
DTEND;VALUE=DATE:20300526
SUMMARY:Lodgement/Payment Due Date - Eligible quarterly activity statement, quarter 3
DESCRIPTION:<![CDATA[]]>
END:VEVENT
CALSCALE:GREGORIAN
END:VCALENDAR
 