BEGIN:VCALENDAR
METHOD:PUBLISH
VERSION:2.0
PRODID:-//Apple Inc.//iCal 4.0.1//EN
BEGIN:VEVENT
UID:14769270
DTSTAMP:20260425T010406Z
DTSTART;VALUE=DATE:20300521
DTEND;VALUE=DATE:20300521
SUMMARY:Lodgement/Payment Due Date - April monthly activity statement
DESCRIPTION:<![CDATA[]]>
END:VEVENT
CALSCALE:GREGORIAN
END:VCALENDAR
 