BEGIN:VCALENDAR
METHOD:PUBLISH
VERSION:2.0
PRODID:-//Apple Inc.//iCal 4.0.1//EN
BEGIN:VEVENT
UID:22649833
DTSTAMP:20260425T010450Z
DTSTART;VALUE=DATE:20300515
DTEND;VALUE=DATE:20300515
SUMMARY:Lodgement Due Date - Tax returns for all other entities that did not have to lodge earlier
DESCRIPTION:<![CDATA[]]>
END:VEVENT
CALSCALE:GREGORIAN
END:VCALENDAR
 