BEGIN:VCALENDAR
METHOD:PUBLISH
VERSION:2.0
PRODID:-//Apple Inc.//iCal 4.0.1//EN
BEGIN:VEVENT
UID:11355151
DTSTAMP:20260425T010450Z
DTSTART;VALUE=DATE:20240428
DTEND;VALUE=DATE:20240428
SUMMARY:Lodgement/Payment Due Date - Super guarantee contributions for quarter 3
DESCRIPTION:<![CDATA[]]>
END:VEVENT
CALSCALE:GREGORIAN
END:VCALENDAR
 