BEGIN:VCALENDAR
METHOD:PUBLISH
VERSION:2.0
PRODID:-//Apple Inc.//iCal 4.0.1//EN
BEGIN:VEVENT
UID:1933229
DTSTAMP:20260425T010452Z
DTSTART;VALUE=DATE:20280421
DTEND;VALUE=DATE:20280421
SUMMARY:Lodgement/Payment Due Date - Quarterly instalment notice (form R, S or T), quarter 3
DESCRIPTION:<![CDATA[]]>
END:VEVENT
CALSCALE:GREGORIAN
END:VCALENDAR
 