BEGIN:VCALENDAR
METHOD:PUBLISH
VERSION:2.0
PRODID:-//Apple Inc.//iCal 4.0.1//EN
BEGIN:VEVENT
UID:19739411
DTSTAMP:20260425T010402Z
DTSTART;VALUE=DATE:20240421
DTEND;VALUE=DATE:20240421
SUMMARY:Lodgement/Payment Due Date - Quarterly instalment notice (form R, S or T), quarter 3
DESCRIPTION:<![CDATA[]]>
END:VEVENT
CALSCALE:GREGORIAN
END:VCALENDAR
 