BEGIN:VCALENDAR
METHOD:PUBLISH
VERSION:2.0
PRODID:-//Apple Inc.//iCal 4.0.1//EN
BEGIN:VEVENT
UID:21877519
DTSTAMP:20260425T010429Z
DTSTART;VALUE=DATE:20280321
DTEND;VALUE=DATE:20280321
SUMMARY:Lodgement/Payment Due Date - February monthly activity statement
DESCRIPTION:<![CDATA[]]>
END:VEVENT
CALSCALE:GREGORIAN
END:VCALENDAR
 