BEGIN:VCALENDAR
METHOD:PUBLISH
VERSION:2.0
PRODID:-//Apple Inc.//iCal 4.0.1//EN
BEGIN:VEVENT
UID:19908089
DTSTAMP:20260425T010413Z
DTSTART;VALUE=DATE:20240421
DTEND;VALUE=DATE:20240421
SUMMARY:Lodgement/Payment Due Date - 3rd Quarter PAYG instalment activity statement
DESCRIPTION:<![CDATA[]]>
END:VEVENT
CALSCALE:GREGORIAN
END:VCALENDAR
 